BEGIN:VCALENDAR
VERSION:2.0
PRODID:-//Meuse Nature Environnement - ECPv6.15.20//NONSGML v1.0//EN
CALSCALE:GREGORIAN
METHOD:PUBLISH
X-ORIGINAL-URL:https://meusenature.fr
X-WR-CALDESC:Évènements pour Meuse Nature Environnement
REFRESH-INTERVAL;VALUE=DURATION:PT1H
X-Robots-Tag:noindex
X-PUBLISHED-TTL:PT1H
BEGIN:VTIMEZONE
TZID:Europe/Helsinki
BEGIN:DAYLIGHT
TZOFFSETFROM:+0200
TZOFFSETTO:+0300
TZNAME:EEST
DTSTART:20240331T010000
END:DAYLIGHT
BEGIN:STANDARD
TZOFFSETFROM:+0300
TZOFFSETTO:+0200
TZNAME:EET
DTSTART:20241027T010000
END:STANDARD
BEGIN:DAYLIGHT
TZOFFSETFROM:+0200
TZOFFSETTO:+0300
TZNAME:EEST
DTSTART:20250330T010000
END:DAYLIGHT
BEGIN:STANDARD
TZOFFSETFROM:+0300
TZOFFSETTO:+0200
TZNAME:EET
DTSTART:20251026T010000
END:STANDARD
BEGIN:DAYLIGHT
TZOFFSETFROM:+0200
TZOFFSETTO:+0300
TZNAME:EEST
DTSTART:20260329T010000
END:DAYLIGHT
BEGIN:STANDARD
TZOFFSETFROM:+0300
TZOFFSETTO:+0200
TZNAME:EET
DTSTART:20261025T010000
END:STANDARD
END:VTIMEZONE
BEGIN:VEVENT
DTSTART;TZID=Europe/Helsinki:20250701T080000
DTEND;TZID=Europe/Helsinki:20251231T170000
DTSTAMP:20260419T212956
CREATED:20250718T130901Z
LAST-MODIFIED:20251002T093721Z
UID:7590-1751356800-1767200400@meusenature.fr
SUMMARY:Notre programme de Juillet à Décembre 2025 !
DESCRIPTION:Notre programme d’animations pour la deuxième partie de l’année (Juillet à Décembre) est maintenant disponible ! 😉 \n\n\n\nInscrivez-vous par téléphone au 03.29.76.13.14 ou par mail à contact@meusenature.fr \n\n\n\nTéléchargez le programme ! \n\n\n\n2025.10.01_programme_anim_été_hiverTélécharger
URL:https://meusenature.fr/sortie/notre-programme-de-mars-a-aout-2025/
CATEGORIES:Bénévolat,Chantiers Nature,Club nature,En ligne,Événements,Formations,Live,Mobilisation,Sorties nature,Stages/Ateliers,Suivis participatifs,Vie associative,Wébinaire
ATTACH;FMTTYPE=image/png:https://meusenature.fr/wp-content/uploads/2025/03/1-Copie-2.png
END:VEVENT
BEGIN:VEVENT
DTSTART;TZID=Europe/Helsinki:20250906T140000
DTEND;TZID=Europe/Helsinki:20250906T170000
DTSTAMP:20260419T212956
CREATED:20250902T085308Z
LAST-MODIFIED:20250902T085317Z
UID:7803-1757167200-1757178000@meusenature.fr
SUMMARY:Sortie Nature : Où est passé la Saulx ? - à Stainville
DESCRIPTION:Lieu de RDV précisé aux inscrits.Inscription à contact@meusenature.fr ou au 03 29 76 13 14.SORTIE À PRIX LIBRE \n\n\n\nDécouvrez la vallée de la Saulx d’une façon inédite ! Lors de cette balade\, préparez-vous à marcher dans un environnement peu commun qui vous révélera les secrets de cet écosystème temporaire\, où chaque recoin recèle des indices sur la vie aquatique et terrestre qui se succèdent tout au long de l’année.
URL:https://meusenature.fr/sortie/sortie-nature-ou-est-passe-la-saulx-a-stainville/
CATEGORIES:Sorties nature
ATTACH;FMTTYPE=image/png:https://meusenature.fr/wp-content/uploads/2025/09/2024.08.31_balade_saulx_stainville1.png
END:VEVENT
BEGIN:VEVENT
DTSTART;TZID=Europe/Helsinki:20250923T183000
DTEND;TZID=Europe/Helsinki:20250923T203000
DTSTAMP:20260419T212956
CREATED:20250922T083601Z
LAST-MODIFIED:20250922T085206Z
UID:7817-1758652200-1758659400@meusenature.fr
SUMMARY:Atelier Harmonie - La multiplication des plantes - à Vaubécourt
DESCRIPTION:Apprenez à multiplier vos petits fruits avec notre animatrice Virginie pour les replanter dans votre jardin ! \n\n\n\n> Temps d’échange GRATUIT et ouvert à tous> Inscription par mail à Catherine.JRAIED@harmonie-mutuelle.fr ou par téléphone au 06.76.32.49.51
URL:https://meusenature.fr/sortie/atelier-harmonie-la-multiplication-des-plantes-a-vaubecourt/
CATEGORIES:Stages/Ateliers
ATTACH;FMTTYPE=image/png:https://meusenature.fr/wp-content/uploads/2025/09/2025.09.23_Harmonie_mutuelle_Vaubecourt_petits_fruits_multi.png
END:VEVENT
BEGIN:VEVENT
DTSTART;TZID=Europe/Helsinki:20250924T183000
DTEND;TZID=Europe/Helsinki:20250924T203000
DTSTAMP:20260419T212956
CREATED:20250922T085435Z
LAST-MODIFIED:20250922T085548Z
UID:7823-1758738600-1758745800@meusenature.fr
SUMMARY:Atelier Harmonie - La multiplication des plantes - à Tréveray
DESCRIPTION:Apprenez à multiplier vos petits fruits avec notre animatrice Virginie pour les replanter dans votre jardin ! \n\n\n\n> Temps d’échange GRATUIT et ouvert à tous> Inscription par mail à Catherine.JRAIED@harmonie-mutuelle.fr ou par téléphone au 06.76.32.49.51
URL:https://meusenature.fr/sortie/atelier-harmonie-la-multiplication-des-plantes-a-treveray/
CATEGORIES:Stages/Ateliers
ATTACH;FMTTYPE=image/png:https://meusenature.fr/wp-content/uploads/2025/09/2025.09.24_Harmonie_mutuelle_Treveray_petits_fruits_multi.png
END:VEVENT
BEGIN:VEVENT
DTSTART;TZID=Europe/Helsinki:20250925T183000
DTEND;TZID=Europe/Helsinki:20250925T203000
DTSTAMP:20260419T212956
CREATED:20250922T085915Z
LAST-MODIFIED:20250922T085923Z
UID:7826-1758825000-1758832200@meusenature.fr
SUMMARY:Atelier Harmonie - La multiplication des plantes - à Chaillon
DESCRIPTION:Apprenez à multiplier vos petits fruits avec notre animatrice Virginie pour les replanter dans votre jardin ! \n\n\n\n> Temps d’échange GRATUIT et ouvert à tous> Inscription par mail à Catherine.JRAIED@harmonie-mutuelle.fr ou par téléphone au 06.76.32.49.51
URL:https://meusenature.fr/sortie/atelier-harmonie-la-multiplication-des-plantes-a-chaillon/
CATEGORIES:Stages/Ateliers
ATTACH;FMTTYPE=image/png:https://meusenature.fr/wp-content/uploads/2025/09/2025.09.25_Harmonie_mutuelle_Chaillon_petits_fruits_multi.png
END:VEVENT
BEGIN:VEVENT
DTSTART;TZID=Europe/Helsinki:20250927T090000
DTEND;TZID=Europe/Helsinki:20250927T130000
DTSTAMP:20260419T212956
CREATED:20250924T121419Z
LAST-MODIFIED:20250924T121640Z
UID:7849-1758963600-1758978000@meusenature.fr
SUMMARY:Atelier pratique : Les p'tits brunchs Anti-Gaspi - au Marché couvert de Bar-le-Duc
DESCRIPTION:RDV au marché couvert de Bar-le-DucTout publicATELIER GRATUIT \n\n\n\nDans le cadre de son engagement continu contre le gaspillage alimentaire\, le Service Gestion et Prévention des Déchets de la Communauté d’Agglomération Meuse Grand Sud\, en collaboration avec l’association Meuse Nature Environnement\, organise une nouvelle édition des « p’tits Brunchs Anti-Gaspi ». \n\n\n\nApprenez à transformer les récoltes de votre jardin-verger pour les conserver tout au long de l’année !
URL:https://meusenature.fr/sortie/atelier-pratique-les-ptits-brunchs-anti-gaspi-au-marche-couvert-de-bar-le-duc/
CATEGORIES:Stages/Ateliers
ATTACH;FMTTYPE=image/jpeg:https://meusenature.fr/wp-content/uploads/2025/09/552125680_1278739654291168_1652403818854748293_n.jpg
END:VEVENT
BEGIN:VEVENT
DTSTART;TZID=Europe/Helsinki:20250928T140000
DTEND;TZID=Europe/Helsinki:20250928T163000
DTSTAMP:20260419T212956
CREATED:20250922T092958Z
LAST-MODIFIED:20250922T125040Z
UID:7831-1759068000-1759077000@meusenature.fr
SUMMARY:Sortie Nature : En quête des plantes sauvages & formidables d'Automne - à Amanty
DESCRIPTION:Lieu de RDV précisé aux inscrits.Inscription à contact@meusenature.fr ou au 03 29 76 13 14.SORTIE GRATUITE \n\n\n\nDécouvrez le secret des plantes sauvages avec une balade commentée par notre animateur Henri\, entre cueillette et explications\, il vous dira tout ce qu’il faut savoir sur le monde botanique pendant la période de l’automne !
URL:https://meusenature.fr/sortie/sortie-nature-en-quete-des-plantes-sauvages-formidables-dautomne-a-amanty/
CATEGORIES:Sorties nature
ATTACH;FMTTYPE=image/png:https://meusenature.fr/wp-content/uploads/2025/09/2025.09.28_plantes_sauvages_amanty.png
END:VEVENT
END:VCALENDAR