BEGIN:VCALENDAR
VERSION:2.0
PRODID:-//Meuse Nature Environnement - ECPv6.15.20//NONSGML v1.0//EN
CALSCALE:GREGORIAN
METHOD:PUBLISH
X-ORIGINAL-URL:https://meusenature.fr
X-WR-CALDESC:Évènements pour Meuse Nature Environnement
REFRESH-INTERVAL;VALUE=DURATION:PT1H
X-Robots-Tag:noindex
X-PUBLISHED-TTL:PT1H
BEGIN:VTIMEZONE
TZID:Europe/Helsinki
BEGIN:DAYLIGHT
TZOFFSETFROM:+0200
TZOFFSETTO:+0300
TZNAME:EEST
DTSTART:20230326T010000
END:DAYLIGHT
BEGIN:STANDARD
TZOFFSETFROM:+0300
TZOFFSETTO:+0200
TZNAME:EET
DTSTART:20231029T010000
END:STANDARD
BEGIN:DAYLIGHT
TZOFFSETFROM:+0200
TZOFFSETTO:+0300
TZNAME:EEST
DTSTART:20240331T010000
END:DAYLIGHT
BEGIN:STANDARD
TZOFFSETFROM:+0300
TZOFFSETTO:+0200
TZNAME:EET
DTSTART:20241027T010000
END:STANDARD
BEGIN:DAYLIGHT
TZOFFSETFROM:+0200
TZOFFSETTO:+0300
TZNAME:EEST
DTSTART:20250330T010000
END:DAYLIGHT
BEGIN:STANDARD
TZOFFSETFROM:+0300
TZOFFSETTO:+0200
TZNAME:EET
DTSTART:20251026T010000
END:STANDARD
END:VTIMEZONE
BEGIN:VEVENT
DTSTART;TZID=Europe/Helsinki:20240902T080000
DTEND;TZID=Europe/Helsinki:20241231T170000
DTSTAMP:20260420T144445
CREATED:20240902T101809Z
LAST-MODIFIED:20240919T115219Z
UID:7381-1725264000-1735664400@meusenature.fr
SUMMARY:Notre programme d’Août à Décembre 2024 !
DESCRIPTION:Notre programme d’animations pour la deuxième partie de l’année (septembre à décembre) est maintenant disponible ! 😉 \n\n\n\nInscrivez-vous par téléphone au 03.29.76.13.14 ou par mail à contact@meusenature.fr \n\n\n\n[ERRATUM] Pour les personnes ayant reçu le calendrier des animations dans l’enveloppe du bulletin « L’Écho-logie »\, une erreur s’est glissée !Le Troc de plantes du 6 octobre est organisé à VASSINCOURT et non à Vavincourt\, comme écrit dans la précédente version du calendrier (version du 20/06/2024). \n\n\n\nTéléchargez le programme ! \n\n\n\n2024.09.19_Prog_anim_part2_automne_hiverTélécharger
URL:https://meusenature.fr/sortie/notre-programme-daout-a-decembre-2024-2/
CATEGORIES:Bénévolat,Chantiers Nature,Club nature,En ligne,Événements,Formations,Live,Mobilisation,Sorties nature,Stages/Ateliers,Suivis participatifs,Vie associative,Wébinaire
ATTACH;FMTTYPE=image/png:https://meusenature.fr/wp-content/uploads/2024/08/1-recto.png
END:VEVENT
BEGIN:VEVENT
DTSTART;TZID=Europe/Helsinki:20241002T140000
DTEND;TZID=Europe/Helsinki:20241002T170000
DTSTAMP:20260420T144445
CREATED:20240124T150445Z
LAST-MODIFIED:20240124T150652Z
UID:7049-1727877600-1727888400@meusenature.fr
SUMMARY:Mini-Mercredi de Massonges
DESCRIPTION:Un club nature pour les enfants le premier mercredi de chaque mois\, au verger de Massonges ! \n\n\n\nDepuis 2017\, sur le jardin-verger pédagogique de Massonges à Vavincourt\, nos animateurs nature proposent un club nature pour les enfants de 6 à 12 ans « Les Mini Mercredis de Massonges » \n\n\n\nTous les premiers mercredis de chaque mois\, le club se réunit l’après-midi pour passer un moment de découvertes et de jeux dans la nature… et pourquoi pas si le cœur leur en dit\, faire des cabanes\, un potager naturel ou partir à la chasse aux petites bêtes ! Les animations sont faites avec\, par et pour les enfants ! \n\n\n\nParents bienvenus (et souhaités au moins quelques séances !) \n\n\n\nRejoignez l’évènement sur notre page facebook
URL:https://meusenature.fr/sortie/mini-mercredi-de-massonges-15/
LOCATION:Verger de Massonges\, Verger de Massonges\, Vavincourt\, 55000\, France
CATEGORIES:Club nature
ATTACH;FMTTYPE=image/jpeg:https://meusenature.fr/wp-content/uploads/2020/02/62019022256881732887-1.jpg
ORGANIZER;CN="Meuse Nature Environnement":MAILTO:contact@meusenature.fr
END:VEVENT
BEGIN:VEVENT
DTSTART;TZID=Europe/Helsinki:20241011T203000
DTEND;TZID=Europe/Helsinki:20241013T170000
DTSTAMP:20260420T144445
CREATED:20240924T101604Z
LAST-MODIFIED:20240924T101623Z
UID:7460-1728678600-1728838800@meusenature.fr
SUMMARY:ÉVÉNEMENT NATIONAL : Week-end antinucléaire à Rouen et Penly
DESCRIPTION:Évènement national contre la relance du nucléaire organisé par le coordination antinucléaire \n\n\n\nPour tout savoir sur le programme du vendredi soir au dimanche soir et sur les déplacements\, hébergements et intendance: \n\n\n\nhttps://www.sortirdunucleaire.org/EVENEMENT-NATIONAL-Week-end-antinucleaire-a-Rouen \n\n\n\nhttps://coordantinucleaire.noblogs.org
URL:https://meusenature.fr/sortie/evenement-national-week-end-antinucleaire-a-rouen-et-penly/
CATEGORIES:Mobilisation
ATTACH;FMTTYPE=image/jpeg:https://meusenature.fr/wp-content/uploads/2024/09/affiche_rouen_a3bp_page-0001-727x1024-2-64480.jpg
END:VEVENT
BEGIN:VEVENT
DTSTART;TZID=Europe/Helsinki:20241012T140000
DTEND;TZID=Europe/Helsinki:20241012T163000
DTSTAMP:20260420T144445
CREATED:20240927T161346Z
LAST-MODIFIED:20240927T162039Z
UID:7475-1728741600-1728750600@meusenature.fr
SUMMARY:Balade nature en quête des plantes sauvages formidables
DESCRIPTION:Suivez Virginie de Meuse Nature Environnement dans le quartier du Bourg de Saint-Mihiel pour découvrir les incroyables plantes sauvages que nous offre la nature en automne\, qu’elles soient comestibles\, médicinales\, ou encore utilitaires… Une balade à ne pas manquer pour bien démarrer l’automne et être averti(e) pour vos prochaines promenades ! \n\n\n\nMarche d’environ 6 km – bonnes chaussures et vêtements adaptés à la météo recommandésRéservation obligatoire à contact@meusenature.fr ou au 03 29 76 13 14Prix libre (donnez ce que vous pouvez\, ce que vous voulez !)
URL:https://meusenature.fr/sortie/balade-nature-en-quete-des-plantes-sauvages-formidables/
LOCATION:place Jean Berain 55300 Saint-Mihiel\, place Jean Berain\, Saint-Mihiel\, 55300
CATEGORIES:Sorties nature
ATTACH;FMTTYPE=image/png:https://meusenature.fr/wp-content/uploads/2024/09/2024.10.12_balade_sauvages_formidables_st_mihiel-1-1.png
END:VEVENT
BEGIN:VEVENT
DTSTART;TZID=Europe/Helsinki:20241019T100000
DTEND;TZID=Europe/Helsinki:20241019T170000
DTSTAMP:20260420T144445
CREATED:20240924T131746Z
LAST-MODIFIED:20241001T125050Z
UID:7463-1729332000-1729357200@meusenature.fr
SUMMARY:Journée nationale de la réparation en COPARY
DESCRIPTION:AU PROGRAMME : \n\n\n\nGratifériaUn espace de gratuité où vous pourrez déposer des objets enbon état\, tels que des vêtements\, jeux\, jouets\, vaisselle\, outillage\, livres\, électroménager\, mobilier\, accessoires de puériculture\, etc.Vous êtes également invités à prendre ce dont vous avez besoin\, même sans avoir déposé d’objets. \n\n\n\nRepair’CaféNe jetez plus vos objets cassés !Venez faire réparer vos petits électroménagers\, jouets ouéquipements Hi-fi par des réparateurs bénévoles. \n\n\n\nStands de PréventionProfitez de conseils et d’astuces pour entretenir vos appareilsélectroménagers\, vos outils de bricolage\, vos vélos ou trottinettes. Apprenez également à effectuer de petites réparations dans votre logement ou à réparer vos vêtements.Venez faire changer les manches de vos outils par les JoyeuxEmmancheurs. \n\n\n\nRep’ArtDécouvrez des idées créatives pour détourner vos objets duquotidien et les transformer en objets de décoration originaux. \n\n\n\nStand Bricolage pour les EnfantsUn espace dédié aux plus jeunes\, où ils pourront s’initier aux joies du bricolage. \n\n\n\nStand Prévention des Déchets de la COPARYSensibilisation aux enjeux de la réduction des déchets et à despratiques plus respectueuses de l’environnement. \n\n\n\nRestauration sur placePour le déjeuner\, le Fou 2 Truck Burger sera présent pour régaler les participants. \n\n\n\nPour toute information complémentaire\, contactez la COPARYau 03 29 78 75 55 ou sur www.copary.fr.
URL:https://meusenature.fr/sortie/journee-nationale-de-la-reparation-en-copary/
LOCATION:Salle Léo Lagrange\, rue de la tresse\, Revigny-sur-Ornain\, 55800\, France
CATEGORIES:Événements
ATTACH;FMTTYPE=image/png:https://meusenature.fr/wp-content/uploads/2024/09/2024.10.19-Journeentionalereparationcopary.png
ORGANIZER;CN="COPARY":MAILTO:dechetsmenagers@copary.fr
END:VEVENT
BEGIN:VEVENT
DTSTART;TZID=Europe/Helsinki:20241020T100000
DTEND;TZID=Europe/Helsinki:20241020T170000
DTSTAMP:20260420T144445
CREATED:20240826T121117Z
LAST-MODIFIED:20240917T130522Z
UID:7355-1729418400-1729443600@meusenature.fr
SUMMARY:Troc de Jardin - 20e édition - à Aulnois-en-Perthois
DESCRIPTION:Dépôt et échanges de plantes\, semences\, matériels de jardinage\, revues\, confitures\, jus… \n\n\n\n10h Dépôt – 12h Pique-nique au chaud – 13h30 Troc !
URL:https://meusenature.fr/sortie/troc-de-jardin-20e-edition-a-aulnois-en-perthois/
CATEGORIES:Événements
ATTACH;FMTTYPE=image/png:https://meusenature.fr/wp-content/uploads/2024/08/2024.10.20_troc_plante_aulnois-1.png
END:VEVENT
BEGIN:VEVENT
DTSTART;TZID=Europe/Helsinki:20241006T130000
DTEND;TZID=Europe/Helsinki:20241006T170000
DTSTAMP:20260420T144445
CREATED:20240906T130021Z
LAST-MODIFIED:20240917T130030Z
UID:7388-1728219600-1728234000@meusenature.fr
SUMMARY:Troc de Plantes à Vassincourt
DESCRIPTION:
URL:https://meusenature.fr/sortie/troc-de-plantes-a-vassincourt/
LOCATION:Salle des fêtes de Vassincourt\, rue du moutier\, Vassincourt\, 55800\, France
CATEGORIES:Événements
ATTACH;FMTTYPE=image/png:https://meusenature.fr/wp-content/uploads/2024/09/2024.10.06_troc_plante_vassincourt.png
END:VEVENT
BEGIN:VEVENT
DTSTART;TZID=Europe/Helsinki:20241027T100000
DTEND;TZID=Europe/Helsinki:20241027T180000
DTSTAMP:20260420T144445
CREATED:20240826T142200Z
LAST-MODIFIED:20241023T121543Z
UID:7371-1730023200-1730052000@meusenature.fr
SUMMARY:Courges & Merveilles 2024 !
DESCRIPTION:Fêtons la biodiversité et l’écologie !\n\n\n\nDepuis 2014\, Meuse Nature Environnement organise à Aulnois-en-Perthois la fête « Courges et Merveilles » le dernier dimanche d’octobre. Un bel évènement local pour en apprendre plus sur la biodiversité\, le jardin au naturel\, l’alimentation biologique\, au travers de rencontres\, d’échanges\, de jeux\, de causeries\, d’exposition\, de repas… découvrir des producteurs et artisans locaux… et bien sûr passer une belle journée familiale en toute convivialité ! \n\n\n\nC’est reparti pour la 10e édition\n\n\n\n DIMANCHE 27 OCTOBRE 2024 !\n\n\n\n\n\n\n\n\n\n\n\n\n\n\n\nTéléchargez l’affiche en format image (.png) ici et en format .pdf ici ! \n\n\n\nLe programme en détail et en images sera présenté au fur et à mesure sur notre page facebook : https://www.facebook.com/meusenatureenviro \n\n\n\nRetour en images sur l’édition 2019 :
URL:https://meusenature.fr/sortie/courges-merveilles-2024/
LOCATION:Salle polyvalente d’Aulnois-en-perthois\, 14 rue de la Nouette\, Aulnois-en-perthois\, France\, 55170
CATEGORIES:Événements
ATTACH;FMTTYPE=image/png:https://meusenature.fr/wp-content/uploads/2024/10/2024.10.27-Courges-Merveilles-affiche.pdf.png
ORGANIZER;CN="Meuse Nature Environnement":MAILTO:contact@meusenature.fr
END:VEVENT
END:VCALENDAR