BEGIN:VCALENDAR
VERSION:2.0
PRODID:-//Meuse Nature Environnement - ECPv6.15.20//NONSGML v1.0//EN
CALSCALE:GREGORIAN
METHOD:PUBLISH
X-ORIGINAL-URL:https://meusenature.fr
X-WR-CALDESC:Évènements pour Meuse Nature Environnement
REFRESH-INTERVAL;VALUE=DURATION:PT1H
X-Robots-Tag:noindex
X-PUBLISHED-TTL:PT1H
BEGIN:VTIMEZONE
TZID:Europe/Helsinki
BEGIN:DAYLIGHT
TZOFFSETFROM:+0200
TZOFFSETTO:+0300
TZNAME:EEST
DTSTART:20220327T010000
END:DAYLIGHT
BEGIN:STANDARD
TZOFFSETFROM:+0300
TZOFFSETTO:+0200
TZNAME:EET
DTSTART:20221030T010000
END:STANDARD
BEGIN:DAYLIGHT
TZOFFSETFROM:+0200
TZOFFSETTO:+0300
TZNAME:EEST
DTSTART:20230326T010000
END:DAYLIGHT
BEGIN:STANDARD
TZOFFSETFROM:+0300
TZOFFSETTO:+0200
TZNAME:EET
DTSTART:20231029T010000
END:STANDARD
BEGIN:DAYLIGHT
TZOFFSETFROM:+0200
TZOFFSETTO:+0300
TZNAME:EEST
DTSTART:20240331T010000
END:DAYLIGHT
BEGIN:STANDARD
TZOFFSETFROM:+0300
TZOFFSETTO:+0200
TZNAME:EET
DTSTART:20241027T010000
END:STANDARD
END:VTIMEZONE
BEGIN:VEVENT
DTSTART;TZID=Europe/Helsinki:20230601T080000
DTEND;TZID=Europe/Helsinki:20231231T170000
DTSTAMP:20260421T054018
CREATED:20230525T094421Z
LAST-MODIFIED:20230525T133510Z
UID:6502-1685606400-1704042000@meusenature.fr
SUMMARY:Notre programme de Juin à Décembre 2023 !
DESCRIPTION:Téléchargez le programme ! \n\n\n\nProg_anim_partie2_2023-2Télécharger
URL:https://meusenature.fr/sortie/notre-programme-de-juin-a-decembre-2023/
CATEGORIES:Bénévolat,Chantiers Nature,En ligne,Événements,Mobilisation,Sorties nature,Stages/Ateliers,Suivis participatifs,Vie associative
ATTACH;FMTTYPE=image/png:https://meusenature.fr/wp-content/uploads/2023/05/Recto.png
ORGANIZER;CN="Meuse Nature Environnement":MAILTO:contact@meusenature.fr
END:VEVENT
BEGIN:VEVENT
DTSTART;TZID=Europe/Helsinki:20231207T180000
DTEND;TZID=Europe/Helsinki:20231207T200000
DTSTAMP:20260421T054018
CREATED:20231009T133823Z
LAST-MODIFIED:20231009T133858Z
UID:6763-1701972000-1701979200@meusenature.fr
SUMMARY:Stage Verger en COPARY "Multipliez vos arbustes à petits fruits !"
DESCRIPTION:Mûres\, framboises\, baies de mai\, cassis\, groseilliers… !Une richesse végétale que vous apprendrez à découvrir et développer tout en favorisant la biodiversité de votre jardin \n\n\n\nAnimé par Virginie Duvallet de MNE \n\n\n\nInscription obligatoire auprès de la COPARY \n\n\n\n\ntous les détails par ici : https://meusenature.fr/un-programme-de-stages-vergers-pour-les-habitants-de-la-copary/
URL:https://meusenature.fr/sortie/stage-verger-en-copary-multipliez-vos-arbustes-a-petits-fruits/
LOCATION:lieu précisé aux inscrits !
CATEGORIES:Stages/Ateliers
ATTACH;FMTTYPE=image/png:https://meusenature.fr/wp-content/uploads/2023/10/bandeau-stages-Copary-v3.png
ORGANIZER;CN="Copary":MAILTO:vergers@copary.fr
END:VEVENT
BEGIN:VEVENT
DTSTART;TZID=Europe/Helsinki:20231209T090000
DTEND;TZID=Europe/Helsinki:20231209T160000
DTSTAMP:20260421T054018
CREATED:20231107T085803Z
LAST-MODIFIED:20231107T092001Z
UID:6851-1702112400-1702137600@meusenature.fr
SUMMARY:Chantier participatif à Salmagne – Plantation d’arbres fruitiers
DESCRIPTION:Les plantations reprennent de plus belle ! Nous avons besoin de vous pour planter des vergers communaux pour notre projet « Plus de Nature dans mon Verger » !  \n\n\n\nLe dix-septième chantier se déroulera à Salmagne\, le 9 Décembre 2023 !Nous vous donnons rendez-vous à 9h sur le parking du cimetière ! (Attention l’heure de rendez-vous à été avancée !) \n\n\n\nPrévoyez bottes\, vêtements chauds\, et si possible une bêche et un sécateur ! Pensez à prendre un pique nique à partager ! \n\n\n\nUn covoiturage est possible à partir de 8h30 à Meuse Nature Environnement (4 rue du Monument\, 55800 Mognéville). \n\n\n\nAlors si vous êtes motivés pour nous donner un coup de main\, n’hésitez pas à nous prévenir par mail au contact@meusenature.fr ou par téléphone au 03 29 76 13 14.(inscription préférable nécessaire en mairie pour la réservation du repas ou en cas de report ou annulation du chantier). \n\n\n\n \n\n\n\n Nous comptons sur vous !
URL:https://meusenature.fr/sortie/chantier-participatif-a-salmagne-plantation-darbres-fruitiers/
CATEGORIES:Chantiers Nature
ATTACH;FMTTYPE=image/png:https://meusenature.fr/wp-content/uploads/2023/11/Salmagne2-2.png
END:VEVENT
BEGIN:VEVENT
DTSTART;TZID=Europe/Helsinki:20231209T133000
DTEND;TZID=Europe/Helsinki:20231209T160000
DTSTAMP:20260421T054018
CREATED:20231009T134155Z
LAST-MODIFIED:20231009T134200Z
UID:6762-1702128600-1702137600@meusenature.fr
SUMMARY:Stage Verger en COPARY "Rajeunissez vos vieux arbres !"
DESCRIPTION:Vos vieux arbres n’ont pas été taillés depuis longtemps ? \n\n\n\nDonnez-leur une seconde jeunesse par une taille de rénovation appropriée. Savoir regarder votre arbre\, reconnaître les branches mortes\, les bons tire-sève et couper proprement sans endommager les branches saines. \n\n\n\nAnimé par Patrick Lukas \n\n\n\nInscription obligatoire auprès de la COPARY \n\n\n\n\ntous les détails par ici : https://meusenature.fr/un-programme-de-stages-vergers-pour-les-habitants-de-la-copary/
URL:https://meusenature.fr/sortie/stage-verger-en-copary-rajeunissez-vos-vieux-arbres/
LOCATION:lieu précisé aux inscrits !
CATEGORIES:Stages/Ateliers
ATTACH;FMTTYPE=image/png:https://meusenature.fr/wp-content/uploads/2023/10/bandeau-stages-Copary-v3.png
ORGANIZER;CN="Copary":MAILTO:vergers@copary.fr
END:VEVENT
BEGIN:VEVENT
DTSTART;TZID=Europe/Helsinki:20231208T180000
DTEND;TZID=Europe/Helsinki:20231208T200000
DTSTAMP:20260421T054018
CREATED:20231208T104548Z
LAST-MODIFIED:20231208T110833Z
UID:6928-1702058400-1702065600@meusenature.fr
SUMMARY:Stage Verger à Meuse Grand Sud "Multiplions les arbustes à petits fruits !"
DESCRIPTION:Rejoignez-nous pour un atelier de multiplication d’arbustes à petits fruits !Découvrez les conseils et astuces\, rencontrez d’autres passionnés de jardinage et transformez votre jardin en y ajoutant une ribambelle de fruits rouges ! \n\n\n\nAnimé par Virginie DUVALLET \n\n\n\nPour s’inscrire\, il suffit de nous envoyer un mail à contact@meusenature.fr ou nous téléphoner au 03.29.76.13.14 ! \n\n\n\n\nTous les détails par ici : https://meusenature.fr/plus-de-nature-dans-mon-verger-7-stages-verger-pour-les-habitants-de-meuse-grand-sud-saison-2023-2024/
URL:https://meusenature.fr/sortie/stage-verger-a-meuse-grand-sud-multiplions-les-arbustes-a-petits-fruits/
LOCATION:lieu précisé aux inscrits !
CATEGORIES:Stages/Ateliers
ATTACH;FMTTYPE=image/png:https://meusenature.fr/wp-content/uploads/2023/12/Capture-decran-2023-12-08-114450.png
END:VEVENT
END:VCALENDAR