BEGIN:VCALENDAR
VERSION:2.0
PRODID:-//Meuse Nature Environnement - ECPv6.15.20//NONSGML v1.0//EN
CALSCALE:GREGORIAN
METHOD:PUBLISH
X-WR-CALNAME:Meuse Nature Environnement
X-ORIGINAL-URL:https://meusenature.fr
X-WR-CALDESC:Évènements pour Meuse Nature Environnement
REFRESH-INTERVAL;VALUE=DURATION:PT1H
X-Robots-Tag:noindex
X-PUBLISHED-TTL:PT1H
BEGIN:VTIMEZONE
TZID:Europe/Helsinki
BEGIN:DAYLIGHT
TZOFFSETFROM:+0200
TZOFFSETTO:+0300
TZNAME:EEST
DTSTART:20220327T010000
END:DAYLIGHT
BEGIN:STANDARD
TZOFFSETFROM:+0300
TZOFFSETTO:+0200
TZNAME:EET
DTSTART:20221030T010000
END:STANDARD
BEGIN:DAYLIGHT
TZOFFSETFROM:+0200
TZOFFSETTO:+0300
TZNAME:EEST
DTSTART:20230326T010000
END:DAYLIGHT
BEGIN:STANDARD
TZOFFSETFROM:+0300
TZOFFSETTO:+0200
TZNAME:EET
DTSTART:20231029T010000
END:STANDARD
BEGIN:DAYLIGHT
TZOFFSETFROM:+0200
TZOFFSETTO:+0300
TZNAME:EEST
DTSTART:20240331T010000
END:DAYLIGHT
BEGIN:STANDARD
TZOFFSETFROM:+0300
TZOFFSETTO:+0200
TZNAME:EET
DTSTART:20241027T010000
END:STANDARD
END:VTIMEZONE
BEGIN:VEVENT
DTSTART;TZID=Europe/Helsinki:20230601T080000
DTEND;TZID=Europe/Helsinki:20231231T170000
DTSTAMP:20260421T065526
CREATED:20230525T094421Z
LAST-MODIFIED:20230525T133510Z
UID:6502-1685606400-1704042000@meusenature.fr
SUMMARY:Notre programme de Juin à Décembre 2023 !
DESCRIPTION:Téléchargez le programme ! \n\n\n\nProg_anim_partie2_2023-2Télécharger
URL:https://meusenature.fr/sortie/notre-programme-de-juin-a-decembre-2023/
CATEGORIES:Bénévolat,Chantiers Nature,En ligne,Événements,Mobilisation,Sorties nature,Stages/Ateliers,Suivis participatifs,Vie associative
ATTACH;FMTTYPE=image/png:https://meusenature.fr/wp-content/uploads/2023/05/Recto.png
ORGANIZER;CN="Meuse Nature Environnement":MAILTO:contact@meusenature.fr
END:VEVENT
BEGIN:VEVENT
DTSTART;TZID=Europe/Helsinki:20231118T133000
DTEND;TZID=Europe/Helsinki:20231118T160000
DTSTAMP:20260421T065526
CREATED:20231009T133633Z
LAST-MODIFIED:20231009T133912Z
UID:6760-1700314200-1700323200@meusenature.fr
SUMMARY:Stage Verger en COPARY "Réalisez la plantation d'un verger !"
DESCRIPTION:Plantez le bon arbre au bon endroit ! Apprenez à choisir vos arbres en fonction du sol\, du climat\, de vos besoins et de la configuration de votre terrain. Retenez les conseils d’un technicien pour choisir le bonspécimen. Découvrez les bases d’une plantation réussie et les gestes qui permettent d’assurer la bonne croissance de l’arbre. \n\n\n\nAnimé par Patrick Lukas \n\n\n\nInscription obligatoire auprès de la COPARY \n\n\n\n\ntous les détails par ici : https://meusenature.fr/un-programme-de-stages-vergers-pour-les-habitants-de-la-copary/
URL:https://meusenature.fr/sortie/stage-verger-en-copary-realisez-la-plantation-dun-verger/
LOCATION:lieu précisé aux inscrits !
CATEGORIES:Stages/Ateliers
ATTACH;FMTTYPE=image/png:https://meusenature.fr/wp-content/uploads/2023/10/bandeau-stages-Copary-v3.png
ORGANIZER;CN="Copary":MAILTO:vergers@copary.fr
END:VEVENT
BEGIN:VEVENT
DTSTART;TZID=Europe/Helsinki:20231120T090000
DTEND;TZID=Europe/Helsinki:20231124T120000
DTSTAMP:20260421T065526
CREATED:20231107T100935Z
LAST-MODIFIED:20231113T135755Z
UID:6864-1700470800-1700827200@meusenature.fr
SUMMARY:Chantier participatif à Bar-le-Duc – Plantation d’arbres fruitiers.
DESCRIPTION:Les plantations reprennent de plus belle ! Nous avons besoin de vous pour planter des vergers communaux pour notre projet « Plus de Nature dans mon Verger » !  \n\n\n\nLe seizième chantier se déroulera à Bar-le-Duc\, la semaine du 20 au 24 Novembre 2023 !Nous vous donnerons rendez-vous sur le parking des Archives Départementales ! Appelez le 07.65.52.00.74 pour la localisation précise du terrain. \n\n\n\nL’organisation de la semaine :  \n\n\n\n– Lundi : à partir de 13h30– Mardi : à partir de 8h45 à 17h– Mercredi : pas de plantations– Jeudi : à partir de 8h45 à 17h– Vendredi : à partir de 8h45 à 12h \n\n\n\nPrévoyez bottes\, vêtements chauds\, et si possible une bêche et un sécateur ! Pensez à prendre un pique nique ! \n\n\n\nAlors si vous êtes motivés pour nous donner un coup de main\, n’hésitez pas à nous prévenir par mail au contact@meusenature.fr ou par téléphone au 03 29 76 13 14.(inscription préférable en cas de report ou annulation du chantier). \n\n\n\n \n\n\n\n Nous comptons sur vous !
URL:https://meusenature.fr/sortie/chantier-participatif-a-bar-le-duc-plantation-darbres-fruitiers-plus-dinfos-a-venir/
CATEGORIES:Chantiers Nature
ATTACH;FMTTYPE=image/png:https://meusenature.fr/wp-content/uploads/2023/11/Rumont1-1.png
END:VEVENT
BEGIN:VEVENT
DTSTART;TZID=Europe/Helsinki:20231121T180000
DTEND;TZID=Europe/Helsinki:20231124T200000
DTSTAMP:20260421T065526
CREATED:20231110T133758Z
LAST-MODIFIED:20231110T140144Z
UID:6872-1700589600-1700856000@meusenature.fr
SUMMARY:"Goût durable !" : 4 ateliers Transformation & conservation des fruits et Légumes en Meuse
DESCRIPTION:HORAIRES : 18h-20h – GRATUIT \n\n\n\n4 DATES / 4 LIEUX \n\n\n\nLes fruits et légumes sont précieux pour notre santé\, notre moral et la diversité de nos assiettes. Harmonie Mutuelle et Meuse Nature Environnement vous invitent à (re)découvrir comment les transformer et conserver pour en profiter toute l’année ! Profitez d’un atelier culinaire très pratique pour vous réapproprier les techniques de conservation par le sucre\, le sel\, l’huile\, la déshydratation\, la stérilisation\,etc. Échanges de recettes et dégustations au rendez-vous. Vous repartirez avec une part de ce que vous aurez concocté. \n\n\n\nÉchanges de recettes et dégustations au rendez-vous. Chacun(e) repartira avec une part de ce qu’il aura concocté. \n\n\n\n\n\n\n\n\n\n\n\nCréé à l’occasion de la Semaine européenne de réduction des déchets\, ces ateliers\, portés par Harmonie Mutuelle et animés par Meuse Nature Environnement\, s’adressent à tout public\, adhérent(e)s et non adhérent(e)s d’Harmonie Mutuelle. \n\n\n\n\n\n \n\n\n\n\n\n\n\nPhoto de Anshu A sur Unsplash \n\n\n\n4 dates sont proposées dans tout le département de la Meuse : \n\n\n\n\nMardi 21 novembre 2023 – de 18 h à 20 h – MFR de Stenay\n\n\n\nMercredi 22 novembre 2023 – de 18 h à 20 h – Tiers-lieu Familles rurales de Saint-Mihiel\n\n\n\nJeudi 23 novembre 2023 – de 18 h à 20 h – Centre socioculturel Libération de Bar-le-Duc\n\n\n\nVendredi 24 novembre 2023 – de 18h à 20h – Centre socioculturel Kergomard de Verdun\n\n\n\n\nINSCRIPTIONS AUPRÈS D’HARMONIE MUTUELLE MEUSE en suivant le lien qui vous concerne :  \n\n\n\nL’adresse précise des lieux accueillant les ateliers est précisé pour chaque lien. \n\n\n\n\nINSCRIPTION pour le mercredi 21/11 à Stenay\n\n\n\n\n     \n\n\n\n\nINSCRIPTION pour le mercredi 22/11 à Saint-Mihiel\n\n\n\n\n     \n\n\n\n\nINSCRIPTION pour le jeudi 23/11 à Bar-le-Duc\n\n\n\n\n     \n\n\n\n\nINSCRIPTION pour le vendredi 24/11 à Verdun
URL:https://meusenature.fr/sortie/4-ateliers-transfo-conservation-fruits-legumes/
CATEGORIES:Stages/Ateliers
ATTACH;FMTTYPE=image/jpeg:https://meusenature.fr/wp-content/uploads/2023/11/anshu-a-JzY97tKL_oM-unsplash1-scaled.jpg
END:VEVENT
BEGIN:VEVENT
DTSTART;TZID=Europe/Helsinki:20231130T100000
DTEND;TZID=Europe/Helsinki:20231130T180000
DTSTAMP:20260421T065526
CREATED:20231020T135633Z
LAST-MODIFIED:20231020T135829Z
UID:6809-1701338400-1701367200@meusenature.fr
SUMMARY:Troc de Noël - à la Salle des Fêtes - Parc de l'Hotêl de Ville - Bar-le-Duc
DESCRIPTION:Évènement réalisé avec le soutien du Conseil Départemental de la Meuse.
URL:https://meusenature.fr/sortie/troc-de-noel-a-la-salle-des-fetes-parc-de-lhotel-de-ville-bar-le-duc/
ATTACH;FMTTYPE=image/jpeg:https://meusenature.fr/wp-content/uploads/2023/10/affiche-generale.jpg
END:VEVENT
END:VCALENDAR