BEGIN:VCALENDAR
VERSION:2.0
PRODID:-//Meuse Nature Environnement - ECPv6.15.20//NONSGML v1.0//EN
CALSCALE:GREGORIAN
METHOD:PUBLISH
X-WR-CALNAME:Meuse Nature Environnement
X-ORIGINAL-URL:https://meusenature.fr
X-WR-CALDESC:Évènements pour Meuse Nature Environnement
REFRESH-INTERVAL;VALUE=DURATION:PT1H
X-Robots-Tag:noindex
X-PUBLISHED-TTL:PT1H
BEGIN:VTIMEZONE
TZID:Europe/Helsinki
BEGIN:DAYLIGHT
TZOFFSETFROM:+0200
TZOFFSETTO:+0300
TZNAME:EEST
DTSTART:20220327T010000
END:DAYLIGHT
BEGIN:STANDARD
TZOFFSETFROM:+0300
TZOFFSETTO:+0200
TZNAME:EET
DTSTART:20221030T010000
END:STANDARD
BEGIN:DAYLIGHT
TZOFFSETFROM:+0200
TZOFFSETTO:+0300
TZNAME:EEST
DTSTART:20230326T010000
END:DAYLIGHT
BEGIN:STANDARD
TZOFFSETFROM:+0300
TZOFFSETTO:+0200
TZNAME:EET
DTSTART:20231029T010000
END:STANDARD
BEGIN:DAYLIGHT
TZOFFSETFROM:+0200
TZOFFSETTO:+0300
TZNAME:EEST
DTSTART:20240331T010000
END:DAYLIGHT
BEGIN:STANDARD
TZOFFSETFROM:+0300
TZOFFSETTO:+0200
TZNAME:EET
DTSTART:20241027T010000
END:STANDARD
END:VTIMEZONE
BEGIN:VEVENT
DTSTART;TZID=Europe/Helsinki:20230601T080000
DTEND;TZID=Europe/Helsinki:20231231T170000
DTSTAMP:20260421T082651
CREATED:20230525T094421Z
LAST-MODIFIED:20230525T133510Z
UID:6502-1685606400-1704042000@meusenature.fr
SUMMARY:Notre programme de Juin à Décembre 2023 !
DESCRIPTION:Téléchargez le programme ! \n\n\n\nProg_anim_partie2_2023-2Télécharger
URL:https://meusenature.fr/sortie/notre-programme-de-juin-a-decembre-2023/
CATEGORIES:Bénévolat,Chantiers Nature,En ligne,Événements,Mobilisation,Sorties nature,Stages/Ateliers,Suivis participatifs,Vie associative
ATTACH;FMTTYPE=image/png:https://meusenature.fr/wp-content/uploads/2023/05/Recto.png
ORGANIZER;CN="Meuse Nature Environnement":MAILTO:contact@meusenature.fr
END:VEVENT
BEGIN:VEVENT
DTSTART;TZID=Europe/Helsinki:20231012T180000
DTEND;TZID=Europe/Helsinki:20231012T200000
DTSTAMP:20260421T082651
CREATED:20231009T132840Z
LAST-MODIFIED:20231009T133938Z
UID:6751-1697133600-1697140800@meusenature.fr
SUMMARY:Stage Verger en COPARY "Transformez et conservez vos fruits !"
DESCRIPTION:Fruits frais\, séchés\, en confiture\, en jus…. Prenez un temps d’échanges autour de recettes\, de procédés de transformation et conservation et de vos connaissances ! \n\n\n\nAnimé par Virginie Duvallet de MNE \n\n\n\nInscription obligatoire auprès de la COPARY \n\n\n\n\ntous les détails par ici : https://meusenature.fr/un-programme-de-stages-vergers-pour-les-habitants-de-la-copary/
URL:https://meusenature.fr/sortie/stage-verger-en-copary-transformez-et-conservez-vos-fruits/
LOCATION:lieu précisé aux inscrits !
CATEGORIES:Stages/Ateliers
ATTACH;FMTTYPE=image/png:https://meusenature.fr/wp-content/uploads/2023/10/bandeau-stages-Copary-v3.png
ORGANIZER;CN="Copary":MAILTO:vergers@copary.fr
END:VEVENT
BEGIN:VEVENT
DTSTART;TZID=Europe/Helsinki:20231015T100000
DTEND;TZID=Europe/Helsinki:20231015T170000
DTSTAMP:20260421T082651
CREATED:20230427T114547Z
LAST-MODIFIED:20230427T114555Z
UID:6332-1697364000-1697389200@meusenature.fr
SUMMARY:Troc de Jardin - 19ème édition - à Aulnois-en-Perthois
DESCRIPTION:Dépôt et échanges de plantes\, semences\, matériels de jardinage\, revues\, confitures\, jus… \n\n\n\n10h Dépôt – 12h Pique-nique au chaud – 13h30 Troc !
URL:https://meusenature.fr/sortie/troc-de-jardin-19eme-edition-a-aulnois-en-perthois/
ATTACH;FMTTYPE=image/png:https://meusenature.fr/wp-content/uploads/2023/04/14.png
END:VEVENT
BEGIN:VEVENT
DTSTART;TZID=Europe/Helsinki:20231019T180000
DTEND;TZID=Europe/Helsinki:20231019T200000
DTSTAMP:20260421T082651
CREATED:20231009T133413Z
LAST-MODIFIED:20231009T134231Z
UID:6758-1697738400-1697745600@meusenature.fr
SUMMARY:Stage Verger en COPARY "Étudiez les fruits avec la pomologie !"
DESCRIPTION:Découvrez l’art de regarder un fruit\, de l’observer\, de le décrire…Comme de vrais professionnels\, remplissez une fiche de description et consultez des ouvrages pour tenter d’identifier les fruits locaux. \n\n\n\nSi vous le souhaitez\, apportez vos fruits à identifier ! \n\n\n\nAnimé par Virginie Duvallet de MNE \n\n\n\nInscription obligatoire auprès de la COPARY \n\n\n\n\ntous les détails par ici : https://meusenature.fr/un-programme-de-stages-vergers-pour-les-habitants-de-la-copary/
URL:https://meusenature.fr/sortie/stage-verger-en-copary-etudiez-les-fruits-avec-la-pomologie/
LOCATION:lieu précisé aux inscrits !
CATEGORIES:Stages/Ateliers
ATTACH;FMTTYPE=image/png:https://meusenature.fr/wp-content/uploads/2023/10/bandeau-stages-Copary-v3.png
ORGANIZER;CN="Copary":MAILTO:vergers@copary.fr
END:VEVENT
BEGIN:VEVENT
DTSTART;TZID=Europe/Helsinki:20231029T100000
DTEND;TZID=Europe/Helsinki:20231029T180000
DTSTAMP:20260421T082651
CREATED:20230926T094225Z
LAST-MODIFIED:20231024T085801Z
UID:6715-1698573600-1698602400@meusenature.fr
SUMMARY:Courges & Merveilles 2023 !
DESCRIPTION:Fêtons la biodiversité et l’écologie !\n\n\n\nDepuis 2014\, Meuse Nature Environnement organise à Aulnois-en-Perthois la fête « Courges et Merveilles » le dernier dimanche d’octobre. Un bel évènement local pour en apprendre plus sur la biodiversité\, le jardin au naturel\, l’alimentation biologique\, au travers de rencontres\, d’échanges\, de jeux\, de causeries\, d’exposition\, de repas… découvrir des producteurs et artisans locaux… et bien sûr passer une belle journée familiale en toute convivialité ! \n\n\n\nC’est reparti pour la 9ème édition\n\n\n\n DIMANCHE 29 OCTOBRE 2023 !\n\n\n\n\n\n\n\nTéléchargez l’affiche en format image (.png) ici et en format .pdf ici ! \n\n\n\nLe programme en détail et en images est présenté au fur et à mesure sur notre page facebook : https://www.facebook.com/events/640643894721190 \n\n\n\n\n\n\n\nRetour en images sur l’édition 2019 :
URL:https://meusenature.fr/sortie/courges-merveilles-2023/
LOCATION:Salle polyvalente d’Aulnois-en-perthois\, 14 rue de la Nouette\, Aulnois-en-perthois\, France\, 55170
ATTACH;FMTTYPE=image/png:https://meusenature.fr/wp-content/uploads/2023/09/2023.09.26Affiche-CM-2023-1.png
ORGANIZER;CN="Meuse Nature Environnement":MAILTO:contact@meusenature.fr
END:VEVENT
END:VCALENDAR