BEGIN:VCALENDAR
VERSION:2.0
PRODID:-//Meuse Nature Environnement - ECPv6.15.20//NONSGML v1.0//EN
CALSCALE:GREGORIAN
METHOD:PUBLISH
X-WR-CALNAME:Meuse Nature Environnement
X-ORIGINAL-URL:https://meusenature.fr
X-WR-CALDESC:Évènements pour Meuse Nature Environnement
REFRESH-INTERVAL;VALUE=DURATION:PT1H
X-Robots-Tag:noindex
X-PUBLISHED-TTL:PT1H
BEGIN:VTIMEZONE
TZID:Europe/Helsinki
BEGIN:DAYLIGHT
TZOFFSETFROM:+0200
TZOFFSETTO:+0300
TZNAME:EEST
DTSTART:20220327T010000
END:DAYLIGHT
BEGIN:STANDARD
TZOFFSETFROM:+0300
TZOFFSETTO:+0200
TZNAME:EET
DTSTART:20221030T010000
END:STANDARD
BEGIN:DAYLIGHT
TZOFFSETFROM:+0200
TZOFFSETTO:+0300
TZNAME:EEST
DTSTART:20230326T010000
END:DAYLIGHT
BEGIN:STANDARD
TZOFFSETFROM:+0300
TZOFFSETTO:+0200
TZNAME:EET
DTSTART:20231029T010000
END:STANDARD
BEGIN:DAYLIGHT
TZOFFSETFROM:+0200
TZOFFSETTO:+0300
TZNAME:EEST
DTSTART:20240331T010000
END:DAYLIGHT
BEGIN:STANDARD
TZOFFSETFROM:+0300
TZOFFSETTO:+0200
TZNAME:EET
DTSTART:20241027T010000
END:STANDARD
END:VTIMEZONE
BEGIN:VEVENT
DTSTART;TZID=Europe/Helsinki:20230525T140000
DTEND;TZID=Europe/Helsinki:20230525T160000
DTSTAMP:20260421T074903
CREATED:20230427T095226Z
LAST-MODIFIED:20230427T095236Z
UID:6312-1685023200-1685030400@meusenature.fr
SUMMARY:Sortie Nature : Orchidées sauvages de nos talus à Bar-le-Duc
DESCRIPTION:INSCRIPTION OBLIGATOIREà contact@meusenature.fr ou au 03 29 76 13 14.Sortie à PRIX LIBRE
URL:https://meusenature.fr/sortie/sortie-nature-orchidees-sauvages-de-nos-talus-a-bar-le-duc-2/
CATEGORIES:Sorties nature
ATTACH;FMTTYPE=image/png:https://meusenature.fr/wp-content/uploads/2023/04/2023.05.25Sortie_Nature_Comptage_orchides_Bar.png
END:VEVENT
END:VCALENDAR