BEGIN:VCALENDAR
VERSION:2.0
PRODID:-//Meuse Nature Environnement - ECPv6.15.20//NONSGML v1.0//EN
CALSCALE:GREGORIAN
METHOD:PUBLISH
X-ORIGINAL-URL:https://meusenature.fr
X-WR-CALDESC:Évènements pour Meuse Nature Environnement
REFRESH-INTERVAL;VALUE=DURATION:PT1H
X-Robots-Tag:noindex
X-PUBLISHED-TTL:PT1H
BEGIN:VTIMEZONE
TZID:Europe/Helsinki
BEGIN:DAYLIGHT
TZOFFSETFROM:+0200
TZOFFSETTO:+0300
TZNAME:EEST
DTSTART:20230326T010000
END:DAYLIGHT
BEGIN:STANDARD
TZOFFSETFROM:+0300
TZOFFSETTO:+0200
TZNAME:EET
DTSTART:20231029T010000
END:STANDARD
BEGIN:DAYLIGHT
TZOFFSETFROM:+0200
TZOFFSETTO:+0300
TZNAME:EEST
DTSTART:20240331T010000
END:DAYLIGHT
BEGIN:STANDARD
TZOFFSETFROM:+0300
TZOFFSETTO:+0200
TZNAME:EET
DTSTART:20241027T010000
END:STANDARD
BEGIN:DAYLIGHT
TZOFFSETFROM:+0200
TZOFFSETTO:+0300
TZNAME:EEST
DTSTART:20250330T010000
END:DAYLIGHT
BEGIN:STANDARD
TZOFFSETFROM:+0300
TZOFFSETTO:+0200
TZNAME:EET
DTSTART:20251026T010000
END:STANDARD
END:VTIMEZONE
BEGIN:VEVENT
DTSTART;TZID=Europe/Helsinki:20240826T080000
DTEND;TZID=Europe/Helsinki:20241231T170000
DTSTAMP:20260420T052631
CREATED:20240902T094401Z
LAST-MODIFIED:20240902T094405Z
UID:7170-1724659200-1735664400@meusenature.fr
SUMMARY:Notre programme d'Août à Décembre 2024 !
DESCRIPTION:Notre programme d’animations pour la deuxième partie de l’année (septembre à décembre) est maintenant disponible ! 😉 \n\n\n\nInscrivez-vous par téléphone au 03.29.76.13.14 ou par mail à contact@meusenature.fr \n\n\n\n[ERRATUM] Pour les personnes ayant reçu le calendrier des animations dans l’enveloppe du bulletin « L’Écho-logie »\, une erreur s’est glissée !Le Troc de plantes du 6 octobre est organisé à VASSINCOURT et non à Vavincourt\, comme écrit dans la précédente version du calendrier (version du 20/06/2024). \n\n\n\nTéléchargez le programme ! \n\n\n\n2024.08.26_Prog_anim_part2_automne_hiverTélécharger
URL:https://meusenature.fr/sortie/notre-programme-de-aout-a-dec-2024/
CATEGORIES:Bénévolat,Chantiers Nature,En ligne,Événements,Mobilisation,Sorties nature,Stages/Ateliers,Suivis participatifs,Vie associative
ATTACH;FMTTYPE=image/png:https://meusenature.fr/wp-content/uploads/2024/08/1-recto.png
ORGANIZER;CN="Meuse Nature Environnement":MAILTO:contact@meusenature.fr
END:VEVENT
BEGIN:VEVENT
DTSTART;TZID=Europe/Helsinki:20240406T090000
DTEND;TZID=Europe/Helsinki:20240406T120000
DTSTAMP:20260420T052631
CREATED:20240228T100240Z
LAST-MODIFIED:20240308T095014Z
UID:7195-1712394000-1712404800@meusenature.fr
SUMMARY:Sortie Nature : Les oiseaux des bords de Meuse à Lérouville
DESCRIPTION:Lieu de RDV précisé aux inscrits.Inscription à contact@meusenature.fr ou au 03 29 76 13 14.SORTIE PRIX LIBRE \n\n\n\n \n\n\n\n \n\n\n\nRejoignez la guilde des observateurs d’oiseaux lors de cette marche sur les bords de la Meuse. Apprenez les trucs et astuces pour reconnaître et mémoriser les oiseaux.
URL:https://meusenature.fr/sortie/sortie-nature-les-oiseaux-des-bords-de-meuse-a-lerouville/
CATEGORIES:Sorties nature
ATTACH;FMTTYPE=image/png:https://meusenature.fr/wp-content/uploads/2024/03/2024.04.06_oiseaux_bord_meuse_lerouville2.png
ORGANIZER;CN="Meuse Nature Environnement":MAILTO:contact@meusenature.fr
END:VEVENT
BEGIN:VEVENT
DTSTART;TZID=Europe/Helsinki:20240427T090000
DTEND;TZID=Europe/Helsinki:20240427T120000
DTSTAMP:20260420T052631
CREATED:20240228T102538Z
LAST-MODIFIED:20240228T102713Z
UID:7198-1714208400-1714219200@meusenature.fr
SUMMARY:Sortie Nature : Entre nature et plumes : les oiseaux de la forêt de Laheycourt
DESCRIPTION:Lieu de RDV précisé aux inscrits.Inscription à contact@meusenature.fr ou au 03 29 76 13 14.SORTIE PRIX LIBRE \n\n\n\nL’occasion idéale de vous immerger dans la beauté de la nature\, de vous ressourcer et d’explorer la biodiversité des oiseaux en plein cœur de la forêt\, tout en apprenant à observer\, identifier et écouter les oiseaux dans leur environnement naturel.
URL:https://meusenature.fr/sortie/sortie-nature-entre-nature-et-plumes-les-oiseaux-de-la-foret-de-laheycourt/
CATEGORIES:Sorties nature
ATTACH;FMTTYPE=image/png:https://meusenature.fr/wp-content/uploads/2024/02/2024.04.27_nature_plumes_foret_laheycourt.png
ORGANIZER;CN="Meuse Nature Environnement":MAILTO:contact@meusenature.fr
END:VEVENT
BEGIN:VEVENT
DTSTART;TZID=Europe/Helsinki:20240427T100000
DTEND;TZID=Europe/Helsinki:20240428T190000
DTSTAMP:20260420T052631
CREATED:20240320T151227Z
LAST-MODIFIED:20240320T151237Z
UID:7286-1714212000-1714330800@meusenature.fr
SUMMARY:Fête des Animaux Sauvages à Vignot ! - Au Lavoir - Programme à venir !
DESCRIPTION:RENDEZ-VOUS DES 10H AU LAVOIR DE VIGNOT \n\n\n\nLe programme sera diffusé prochainement. \n\n\n\nAprès la Fête de la Nature à Mognéville\, le Samedi 13 avril après-midi\, nous proposons un week-end sur les espèces sauvages à Vignot (55) les 27 et 28 avril 2024. \n\n\n\nPour cette première fête à Vignot\, une soirée conférence sur « Le Loup en Grand-Est » est organisée le samedi soir à 19h00.
URL:https://meusenature.fr/sortie/fete-des-animaux-sauvages-a-vignot-au-lavoir-programme-a-venir/
CATEGORIES:Bénévolat,Événements,Mobilisation,Sorties nature,Stages/Ateliers,Vie associative
ATTACH;FMTTYPE=image/png:https://meusenature.fr/wp-content/uploads/2024/03/2024.08.27-28_Fete_des_animaux_sauvage_Vignot_Seb.png
END:VEVENT
END:VCALENDAR