BEGIN:VCALENDAR
VERSION:2.0
PRODID:-//Meuse Nature Environnement - ECPv6.15.20//NONSGML v1.0//EN
CALSCALE:GREGORIAN
METHOD:PUBLISH
X-ORIGINAL-URL:https://meusenature.fr
X-WR-CALDESC:Évènements pour Meuse Nature Environnement
REFRESH-INTERVAL;VALUE=DURATION:PT1H
X-Robots-Tag:noindex
X-PUBLISHED-TTL:PT1H
BEGIN:VTIMEZONE
TZID:Europe/Helsinki
BEGIN:DAYLIGHT
TZOFFSETFROM:+0200
TZOFFSETTO:+0300
TZNAME:EEST
DTSTART:20220327T010000
END:DAYLIGHT
BEGIN:STANDARD
TZOFFSETFROM:+0300
TZOFFSETTO:+0200
TZNAME:EET
DTSTART:20221030T010000
END:STANDARD
BEGIN:DAYLIGHT
TZOFFSETFROM:+0200
TZOFFSETTO:+0300
TZNAME:EEST
DTSTART:20230326T010000
END:DAYLIGHT
BEGIN:STANDARD
TZOFFSETFROM:+0300
TZOFFSETTO:+0200
TZNAME:EET
DTSTART:20231029T010000
END:STANDARD
BEGIN:DAYLIGHT
TZOFFSETFROM:+0200
TZOFFSETTO:+0300
TZNAME:EEST
DTSTART:20240331T010000
END:DAYLIGHT
BEGIN:STANDARD
TZOFFSETFROM:+0300
TZOFFSETTO:+0200
TZNAME:EET
DTSTART:20241027T010000
END:STANDARD
END:VTIMEZONE
BEGIN:VEVENT
DTSTART;TZID=Europe/Helsinki:20230601T080000
DTEND;TZID=Europe/Helsinki:20231231T170000
DTSTAMP:20260420T194500
CREATED:20230525T094421Z
LAST-MODIFIED:20230525T133510Z
UID:6502-1685606400-1704042000@meusenature.fr
SUMMARY:Notre programme de Juin à Décembre 2023 !
DESCRIPTION:Téléchargez le programme ! \n\n\n\nProg_anim_partie2_2023-2Télécharger
URL:https://meusenature.fr/sortie/notre-programme-de-juin-a-decembre-2023/
CATEGORIES:Bénévolat,Chantiers Nature,En ligne,Événements,Mobilisation,Sorties nature,Stages/Ateliers,Suivis participatifs,Vie associative
ATTACH;FMTTYPE=image/png:https://meusenature.fr/wp-content/uploads/2023/05/Recto.png
ORGANIZER;CN="Meuse Nature Environnement":MAILTO:contact@meusenature.fr
END:VEVENT
BEGIN:VEVENT
DTSTART;TZID=Europe/Helsinki:20230603T093000
DTEND;TZID=Europe/Helsinki:20230603T170000
DTSTAMP:20260420T194501
CREATED:20230526T102944Z
LAST-MODIFIED:20230602T100825Z
UID:6514-1685784600-1685811600@meusenature.fr
SUMMARY:Marche Interassociative à Mognéville
DESCRIPTION:
URL:https://meusenature.fr/sortie/marche-interassociative-a-mogneville/
LOCATION:L’Herberie de la Saulx\, 11 rue de Rippe\, Mognéville\, 55800\, France
CATEGORIES:Sorties nature,Vie associative
ATTACH;FMTTYPE=image/png:https://meusenature.fr/wp-content/uploads/2023/05/marche-3-juin.pdf.png
ORGANIZER;CN="L'Herberie de la Saulx":MAILTO:contact@lherberiedelasaulx.fr
END:VEVENT
BEGIN:VEVENT
DTSTART;TZID=Europe/Helsinki:20230611T090000
DTEND;TZID=Europe/Helsinki:20230611T120000
DTSTAMP:20260420T194501
CREATED:20230427T100008Z
LAST-MODIFIED:20230522T085518Z
UID:6315-1686474000-1686484800@meusenature.fr
SUMMARY:Matinée d'information : Le Sonneur à ventre jaune à Mognéville
DESCRIPTION:INSCRIPTION OBLIGATOIREà contact@meusenature.fr ou au 03 29 76 13 14.Sortie à PRIX LIBRE
URL:https://meusenature.fr/sortie/sortie-nature-sonneur-ventre-jaune-mogneville/
CATEGORIES:Sorties nature
ATTACH;FMTTYPE=image/png:https://meusenature.fr/wp-content/uploads/2023/04/2023.06.11Sortie_Nature_Sonneur_jaune_Mogneville.png
END:VEVENT
BEGIN:VEVENT
DTSTART;TZID=Europe/Helsinki:20230611T140000
DTEND;TZID=Europe/Helsinki:20230611T180000
DTSTAMP:20260420T194501
CREATED:20220325T172511Z
LAST-MODIFIED:20230602T092014Z
UID:5015-1686492000-1686506400@meusenature.fr
SUMMARY:Bienvenue dans mon Jardin au Naturel !
DESCRIPTION:Plus d’informations par ici : http://cpie-meuse.fr/bienvenue-dans-mon-jardin-au-naturel/
URL:https://meusenature.fr/sortie/bienvenue-dans-mon-jardin-au-naturel-2/
CATEGORIES:Événements,Sorties nature
ATTACH;FMTTYPE=image/webp:https://meusenature.fr/wp-content/uploads/2023/06/BMJN2023_affiche-evenement-scaled-1.webp
ORGANIZER;CN="CPIE de Meuse":MAILTO:sorties@cpie-meuse.fr
END:VEVENT
BEGIN:VEVENT
DTSTART;TZID=Europe/Helsinki:20230612T080000
DTEND;TZID=Europe/Helsinki:20230616T160000
DTSTAMP:20260420T194501
CREATED:20230522T090126Z
LAST-MODIFIED:20230522T090142Z
UID:6494-1686556800-1686931200@meusenature.fr
SUMMARY:Sortie Nature : Belles Hirondelles où êtes-vous ? à Bar-le-Duc
DESCRIPTION:INSCRIPTION OBLIGATOIREà contact@meusenature.fr ou au 03 29 76 13 14.Sortie à PRIX LIBRE
URL:https://meusenature.fr/sortie/sortie-nature-belles-hirondelles-ou-etes-vous-a-bar-le-duc/
CATEGORIES:Sorties nature
ATTACH;FMTTYPE=image/png:https://meusenature.fr/wp-content/uploads/2023/05/2023.06.12Sortie_Nature_Comptage_Hirondelle_Bar.png
END:VEVENT
BEGIN:VEVENT
DTSTART;TZID=Europe/Helsinki:20230624T090000
DTEND;TZID=Europe/Helsinki:20230624T120000
DTSTAMP:20260420T194501
CREATED:20230504T114740Z
LAST-MODIFIED:20230504T114749Z
UID:6382-1687597200-1687608000@meusenature.fr
SUMMARY:Sortie Nature : À la recherche des oiseaux des carrières de Lérouville
DESCRIPTION:INSCRIPTION OBLIGATOIREà contact@meusenature.fr ou au 03 29 76 13 14.Sortie à PRIX LIBRE
URL:https://meusenature.fr/sortie/sortie-nature-a-la-recherche-des-oiseaux-des-carrieres-de-lerouville/
CATEGORIES:Sorties nature
ATTACH;FMTTYPE=image/png:https://meusenature.fr/wp-content/uploads/2023/05/2023.06.24Sortie_Nature_Oiseaux_Lerouville.png
END:VEVENT
BEGIN:VEVENT
DTSTART;TZID=Europe/Helsinki:20230624T090000
DTEND;TZID=Europe/Helsinki:20230624T170000
DTSTAMP:20260420T194501
CREATED:20230428T082001Z
LAST-MODIFIED:20230526T121353Z
UID:6354-1687597200-1687626000@meusenature.fr
SUMMARY:Sortie Nature : Observation des busards de la Vallée de l'Aire à Levoncourt
DESCRIPTION:INSCRIPTION OBLIGATOIREà s.lartique@meusenature.fr ou au 06 75 40 22 55.Sortie à PRIX LIBRE
URL:https://meusenature.fr/sortie/sortie-nature-observation-des-busards-de-la-vallee-de-laire-a-levoncourt/
CATEGORIES:Sorties nature
ATTACH;FMTTYPE=image/png:https://meusenature.fr/wp-content/uploads/2023/04/2023.06.24Sortie_Nature_Busard_Levoncourt.png
END:VEVENT
END:VCALENDAR