BEGIN:VCALENDAR
VERSION:2.0
PRODID:-//Meuse Nature Environnement - ECPv6.15.20//NONSGML v1.0//EN
CALSCALE:GREGORIAN
METHOD:PUBLISH
X-WR-CALNAME:Meuse Nature Environnement
X-ORIGINAL-URL:https://meusenature.fr
X-WR-CALDESC:Évènements pour Meuse Nature Environnement
REFRESH-INTERVAL;VALUE=DURATION:PT1H
X-Robots-Tag:noindex
X-PUBLISHED-TTL:PT1H
BEGIN:VTIMEZONE
TZID:Europe/Helsinki
BEGIN:DAYLIGHT
TZOFFSETFROM:+0200
TZOFFSETTO:+0300
TZNAME:EEST
DTSTART:20220327T010000
END:DAYLIGHT
BEGIN:STANDARD
TZOFFSETFROM:+0300
TZOFFSETTO:+0200
TZNAME:EET
DTSTART:20221030T010000
END:STANDARD
BEGIN:DAYLIGHT
TZOFFSETFROM:+0200
TZOFFSETTO:+0300
TZNAME:EEST
DTSTART:20230326T010000
END:DAYLIGHT
BEGIN:STANDARD
TZOFFSETFROM:+0300
TZOFFSETTO:+0200
TZNAME:EET
DTSTART:20231029T010000
END:STANDARD
BEGIN:DAYLIGHT
TZOFFSETFROM:+0200
TZOFFSETTO:+0300
TZNAME:EEST
DTSTART:20240331T010000
END:DAYLIGHT
BEGIN:STANDARD
TZOFFSETFROM:+0300
TZOFFSETTO:+0200
TZNAME:EET
DTSTART:20241027T010000
END:STANDARD
END:VTIMEZONE
BEGIN:VEVENT
DTSTART;TZID=Europe/Helsinki:20230319T100000
DTEND;TZID=Europe/Helsinki:20230319T160000
DTSTAMP:20260420T224948
CREATED:20230210T153356Z
LAST-MODIFIED:20230210T153412Z
UID:6078-1679220000-1679241600@meusenature.fr
SUMMARY:Puces des couturières et couturiers au Pôle Coopératif à Revigny-sur-Ornain
DESCRIPTION:– Donner\, troquer ou tous vos tissus et objets de mercerie inutilisés– Récupérer ou acheter ce dont vous avez besoin !Aux puces des couturières (et couturiers) organisées par le réseau Le Bon Sens\, réseau d’acteurs pour la transition – 55 au Pôle Coopératif Revigny avec la collaboration de De Graine en Graines\, Le scarabée vert\, L’Herberie de la Saulx\, Meuse Nature Environnement et TerrAnne.Entrée libre et gratuite.Pour réserver une table\, contactez Mélanie au 06 31 86 52 69 ou envoyez un mail à contact@pole-cooperatif.fr.
URL:https://meusenature.fr/sortie/puces-des-couturieres-et-couturiers-au-pole-cooperatif-a-revigny-sur-ornain/
LOCATION:Pôle Coopératif\, 12 avenue victor hugo\, Revigny-sur-Ornain\, 55800\, France
CATEGORIES:Événements,Vie associative
ATTACH;FMTTYPE=image/jpeg:https://meusenature.fr/wp-content/uploads/2023/02/Affiche-scaled.jpg
END:VEVENT
END:VCALENDAR