BEGIN:VCALENDAR
VERSION:2.0
PRODID:-//Meuse Nature Environnement - ECPv6.15.20//NONSGML v1.0//EN
CALSCALE:GREGORIAN
METHOD:PUBLISH
X-WR-CALNAME:Meuse Nature Environnement
X-ORIGINAL-URL:https://meusenature.fr
X-WR-CALDESC:Évènements pour Meuse Nature Environnement
REFRESH-INTERVAL;VALUE=DURATION:PT1H
X-Robots-Tag:noindex
X-PUBLISHED-TTL:PT1H
BEGIN:VTIMEZONE
TZID:Europe/Helsinki
BEGIN:DAYLIGHT
TZOFFSETFROM:+0200
TZOFFSETTO:+0300
TZNAME:EEST
DTSTART:20240331T010000
END:DAYLIGHT
BEGIN:STANDARD
TZOFFSETFROM:+0300
TZOFFSETTO:+0200
TZNAME:EET
DTSTART:20241027T010000
END:STANDARD
BEGIN:DAYLIGHT
TZOFFSETFROM:+0200
TZOFFSETTO:+0300
TZNAME:EEST
DTSTART:20250330T010000
END:DAYLIGHT
BEGIN:STANDARD
TZOFFSETFROM:+0300
TZOFFSETTO:+0200
TZNAME:EET
DTSTART:20251026T010000
END:STANDARD
BEGIN:DAYLIGHT
TZOFFSETFROM:+0200
TZOFFSETTO:+0300
TZNAME:EEST
DTSTART:20260329T010000
END:DAYLIGHT
BEGIN:STANDARD
TZOFFSETFROM:+0300
TZOFFSETTO:+0200
TZNAME:EET
DTSTART:20261025T010000
END:STANDARD
END:VTIMEZONE
BEGIN:VEVENT
DTSTART;TZID=Europe/Helsinki:20250701T080000
DTEND;TZID=Europe/Helsinki:20251231T170000
DTSTAMP:20260419T212750
CREATED:20250718T130901Z
LAST-MODIFIED:20251002T093721Z
UID:7590-1751356800-1767200400@meusenature.fr
SUMMARY:Notre programme de Juillet à Décembre 2025 !
DESCRIPTION:Notre programme d’animations pour la deuxième partie de l’année (Juillet à Décembre) est maintenant disponible ! 😉 \n\n\n\nInscrivez-vous par téléphone au 03.29.76.13.14 ou par mail à contact@meusenature.fr \n\n\n\nTéléchargez le programme ! \n\n\n\n2025.10.01_programme_anim_été_hiverTélécharger
URL:https://meusenature.fr/sortie/notre-programme-de-mars-a-aout-2025/
CATEGORIES:Bénévolat,Chantiers Nature,Club nature,En ligne,Événements,Formations,Live,Mobilisation,Sorties nature,Stages/Ateliers,Suivis participatifs,Vie associative,Wébinaire
ATTACH;FMTTYPE=image/png:https://meusenature.fr/wp-content/uploads/2025/03/1-Copie-2.png
END:VEVENT
BEGIN:VEVENT
DTSTART;TZID=Europe/Helsinki:20251018T080000
DTEND;TZID=Europe/Helsinki:20251018T120000
DTSTAMP:20260419T212750
CREATED:20251016T125557Z
LAST-MODIFIED:20251016T125620Z
UID:7900-1760774400-1760788800@meusenature.fr
SUMMARY:Les Rendez-vous au Jardin - Préparer son Jardin pour l'hiver & Expo de variétés de pommes
DESCRIPTION:Meuse Nature Environnement vous propose plusieurs ateliers jusqu’à la fin de l’année sur comment bien s’occuper de votre jardin ! \n\n\n\nDe 8h à 12hRDV au marché couvert de Bar-le-DucATELIER GRATUIT \n\n\n\nApprenez à préparer correctement votre jardin durant cet hiver pour obtenir le meilleur de vos récoltes au printemps !Atelier accompagné d’une exposition d’anciennes variétés de pommes ! \n\n\n\nAtelier en partenariat avec Meuse Grand Sud.
URL:https://meusenature.fr/sortie/les-rendez-vous-au-jardin-preparer-son-jardin-pour-lhiver-expo-de-varietes-de-pommes/
CATEGORIES:Stages/Ateliers
ATTACH;FMTTYPE=image/jpeg:https://meusenature.fr/wp-content/uploads/2025/10/612a6c99d62f8df12710be2256efe1252a0f0335512a0ba2a36013a21c195c2e.jpg
END:VEVENT
END:VCALENDAR