BEGIN:VCALENDAR
VERSION:2.0
PRODID:-//Meuse Nature Environnement - ECPv6.15.20//NONSGML v1.0//EN
CALSCALE:GREGORIAN
METHOD:PUBLISH
X-ORIGINAL-URL:https://meusenature.fr
X-WR-CALDESC:Évènements pour Meuse Nature Environnement
REFRESH-INTERVAL;VALUE=DURATION:PT1H
X-Robots-Tag:noindex
X-PUBLISHED-TTL:PT1H
BEGIN:VTIMEZONE
TZID:Europe/Helsinki
BEGIN:DAYLIGHT
TZOFFSETFROM:+0200
TZOFFSETTO:+0300
TZNAME:EEST
DTSTART:20240331T010000
END:DAYLIGHT
BEGIN:STANDARD
TZOFFSETFROM:+0300
TZOFFSETTO:+0200
TZNAME:EET
DTSTART:20241027T010000
END:STANDARD
BEGIN:DAYLIGHT
TZOFFSETFROM:+0200
TZOFFSETTO:+0300
TZNAME:EEST
DTSTART:20250330T010000
END:DAYLIGHT
BEGIN:STANDARD
TZOFFSETFROM:+0300
TZOFFSETTO:+0200
TZNAME:EET
DTSTART:20251026T010000
END:STANDARD
BEGIN:DAYLIGHT
TZOFFSETFROM:+0200
TZOFFSETTO:+0300
TZNAME:EEST
DTSTART:20260329T010000
END:DAYLIGHT
BEGIN:STANDARD
TZOFFSETFROM:+0300
TZOFFSETTO:+0200
TZNAME:EET
DTSTART:20261025T010000
END:STANDARD
END:VTIMEZONE
BEGIN:VEVENT
DTSTART;TZID=Europe/Helsinki:20250329T090000
DTEND;TZID=Europe/Helsinki:20250329T170000
DTSTAMP:20260420T084116
CREATED:20250303T134642Z
LAST-MODIFIED:20250303T134732Z
UID:7568-1743238800-1743267600@meusenature.fr
SUMMARY:Les Samedis au verger : Un premier stage au verger conservatoire de Laimont !
DESCRIPTION:Lieu de RDV au verger conservatoire de LaimontInscription à contact@meusenature.fr ou au 03 29 76 13 14.STAGE ouvert à tous les habitants du Pays BarroisGRATUIT \n\n\n\nDe 9h à 17hRDV au Verger Conservatoire de Laimont \n\n\n\nAu programme de la journée :  \n\n\n\n\nMatin : Apprenez à créer votre verger à partir de zéro !\n\n\n\nAprès-midi : Tout savoir sur les haies et la biodiversité qui s’y cache \n\n\n\n\nStage ouvert à tous les habitants du Pays Barrois \n\n\n\nCet événement est réalisé grâce au soutien de l’État\, du Pays Barrois\, de la COPARY\, des Portes de Meuse et de Meuse Grand Sud \n\n\n\n\n\n\n\n\n\n\n\n\n\nBernard MEURISSEChargé de mission AménagementTechnicien paysagiste sur les projets d’aménagement de vergers\, de haies et d’autres missions en rapport avec le paysage et l’agriculture.Portable : 06 82 52 37 79Courriel : b.meurisse@meusenature.fr \nContacter
URL:https://meusenature.fr/sortie/les-samedis-au-verger-un-premier-stage-au-verger-conservatoire-de-laimont/
CATEGORIES:Stages/Ateliers
ATTACH;FMTTYPE=image/png:https://meusenature.fr/wp-content/uploads/2025/03/COM_Affiches_animations_20253.png
END:VEVENT
END:VCALENDAR