BEGIN:VCALENDAR
VERSION:2.0
PRODID:-//Meuse Nature Environnement - ECPv6.15.20//NONSGML v1.0//EN
CALSCALE:GREGORIAN
METHOD:PUBLISH
X-ORIGINAL-URL:https://meusenature.fr
X-WR-CALDESC:Évènements pour Meuse Nature Environnement
REFRESH-INTERVAL;VALUE=DURATION:PT1H
X-Robots-Tag:noindex
X-PUBLISHED-TTL:PT1H
BEGIN:VTIMEZONE
TZID:Europe/Helsinki
BEGIN:DAYLIGHT
TZOFFSETFROM:+0200
TZOFFSETTO:+0300
TZNAME:EEST
DTSTART:20240331T010000
END:DAYLIGHT
BEGIN:STANDARD
TZOFFSETFROM:+0300
TZOFFSETTO:+0200
TZNAME:EET
DTSTART:20241027T010000
END:STANDARD
BEGIN:DAYLIGHT
TZOFFSETFROM:+0200
TZOFFSETTO:+0300
TZNAME:EEST
DTSTART:20250330T010000
END:DAYLIGHT
BEGIN:STANDARD
TZOFFSETFROM:+0300
TZOFFSETTO:+0200
TZNAME:EET
DTSTART:20251026T010000
END:STANDARD
BEGIN:DAYLIGHT
TZOFFSETFROM:+0200
TZOFFSETTO:+0300
TZNAME:EEST
DTSTART:20260329T010000
END:DAYLIGHT
BEGIN:STANDARD
TZOFFSETFROM:+0300
TZOFFSETTO:+0200
TZNAME:EET
DTSTART:20261025T010000
END:STANDARD
END:VTIMEZONE
BEGIN:VEVENT
DTSTART;TZID=Europe/Helsinki:20250307T083000
DTEND;TZID=Europe/Helsinki:20250307T163000
DTSTAMP:20260420T084118
CREATED:20250210T132503Z
LAST-MODIFIED:20250210T132517Z
UID:7549-1741336200-1741365000@meusenature.fr
SUMMARY:Chantier nature : Aidez-nous à sauver les Amphibiens à Bazincourt-sur-Saulx !
DESCRIPTION:Inscription à contact@meusenature.fr ou au 03 29 76 13 14.CHANTIER GRATUIT \n\n\n\n\n\n\n\nChantier tout publicPrévoir des bottes et des vêtements chauds
URL:https://meusenature.fr/sortie/chantier-nature-aidez-nous-a-sauver-les-amphibiens-a-bazincourt-sur-saulx-3/
CATEGORIES:Bénévolat,Chantiers Nature,Mobilisation
ATTACH;FMTTYPE=image/png:https://meusenature.fr/wp-content/uploads/2025/02/2025.03.07_appel_benevole_amphibiens_Bazincourt-sur-Saulx.png
ORGANIZER;CN="Meuse Nature Environnement":MAILTO:contact@meusenature.fr
END:VEVENT
END:VCALENDAR