BEGIN:VCALENDAR
VERSION:2.0
PRODID:-//Meuse Nature Environnement - ECPv6.15.20//NONSGML v1.0//EN
CALSCALE:GREGORIAN
METHOD:PUBLISH
X-ORIGINAL-URL:https://meusenature.fr
X-WR-CALDESC:Évènements pour Meuse Nature Environnement
REFRESH-INTERVAL;VALUE=DURATION:PT1H
X-Robots-Tag:noindex
X-PUBLISHED-TTL:PT1H
BEGIN:VTIMEZONE
TZID:Europe/Helsinki
BEGIN:DAYLIGHT
TZOFFSETFROM:+0200
TZOFFSETTO:+0300
TZNAME:EEST
DTSTART:20230326T010000
END:DAYLIGHT
BEGIN:STANDARD
TZOFFSETFROM:+0300
TZOFFSETTO:+0200
TZNAME:EET
DTSTART:20231029T010000
END:STANDARD
BEGIN:DAYLIGHT
TZOFFSETFROM:+0200
TZOFFSETTO:+0300
TZNAME:EEST
DTSTART:20240331T010000
END:DAYLIGHT
BEGIN:STANDARD
TZOFFSETFROM:+0300
TZOFFSETTO:+0200
TZNAME:EET
DTSTART:20241027T010000
END:STANDARD
BEGIN:DAYLIGHT
TZOFFSETFROM:+0200
TZOFFSETTO:+0300
TZNAME:EEST
DTSTART:20250330T010000
END:DAYLIGHT
BEGIN:STANDARD
TZOFFSETFROM:+0300
TZOFFSETTO:+0200
TZNAME:EET
DTSTART:20251026T010000
END:STANDARD
END:VTIMEZONE
BEGIN:VEVENT
DTSTART;TZID=Europe/Helsinki:20240826T080000
DTEND;TZID=Europe/Helsinki:20241231T170000
DTSTAMP:20260421T035405
CREATED:20240902T094401Z
LAST-MODIFIED:20240902T094405Z
UID:7170-1724659200-1735664400@meusenature.fr
SUMMARY:Notre programme d'Août à Décembre 2024 !
DESCRIPTION:Notre programme d’animations pour la deuxième partie de l’année (septembre à décembre) est maintenant disponible ! 😉 \n\n\n\nInscrivez-vous par téléphone au 03.29.76.13.14 ou par mail à contact@meusenature.fr \n\n\n\n[ERRATUM] Pour les personnes ayant reçu le calendrier des animations dans l’enveloppe du bulletin « L’Écho-logie »\, une erreur s’est glissée !Le Troc de plantes du 6 octobre est organisé à VASSINCOURT et non à Vavincourt\, comme écrit dans la précédente version du calendrier (version du 20/06/2024). \n\n\n\nTéléchargez le programme ! \n\n\n\n2024.08.26_Prog_anim_part2_automne_hiverTélécharger
URL:https://meusenature.fr/sortie/notre-programme-de-aout-a-dec-2024/
CATEGORIES:Bénévolat,Chantiers Nature,En ligne,Événements,Mobilisation,Sorties nature,Stages/Ateliers,Suivis participatifs,Vie associative
ATTACH;FMTTYPE=image/png:https://meusenature.fr/wp-content/uploads/2024/08/1-recto.png
ORGANIZER;CN="Meuse Nature Environnement":MAILTO:contact@meusenature.fr
END:VEVENT
BEGIN:VEVENT
DTSTART;TZID=Europe/Helsinki:20240217T093000
DTEND;TZID=Europe/Helsinki:20240217T113000
DTSTAMP:20260421T035405
CREATED:20240111T130348Z
LAST-MODIFIED:20240111T130908Z
UID:7015-1708162200-1708169400@meusenature.fr
SUMMARY:Stage Verger à Meuse Grand Sud "Prenez naturellement soin de vos arbres fruitiers" à Nantois
DESCRIPTION:Apprenez à repérer les signes des maladies et des ravageurs qui peuvent toucher vos arbres fruitiers. Mettez en place des méthodes simples pour prévenir et lutter contre ces problèmes. En agissant rapidement\, vous pouvez garder vos arbres fruitiers en pleine forme sans trop de tracas. \n\n\n\nAnimé par Patrick LUCAS. \n\n\n\nPour s’inscrire\, il suffit de nous envoyer un mail à contact@meusenature.fr ou nous téléphoner au 03.29.76.13.14 ! \n\n\n\n\nTous les détails par ici : https://meusenature.fr/plus-de-nature-dans-mon-verger-7-stages-verger-pour-les-habitants-de-meuse-grand-sud-saison-2023-2024/
URL:https://meusenature.fr/sortie/stage-verger-a-meuse-grand-sud-prenez-naturellement-soin-de-vos-arbres-fruitiers-a-nantois/
LOCATION:lieu précisé aux inscrits !
CATEGORIES:Stages/Ateliers
ATTACH;FMTTYPE=image/png:https://meusenature.fr/wp-content/uploads/2024/01/1-Copie.png
ORGANIZER;CN="Meuse Nature Environnement":MAILTO:contact@meusenature.fr
END:VEVENT
BEGIN:VEVENT
DTSTART;TZID=Europe/Helsinki:20240217T133000
DTEND;TZID=Europe/Helsinki:20240217T160000
DTSTAMP:20260421T035405
CREATED:20240110T130730Z
LAST-MODIFIED:20240110T130732Z
UID:6988-1708176600-1708185600@meusenature.fr
SUMMARY:Stage Verger en COPARY "Soignez au naturel vos arbres fruitiers"
DESCRIPTION:Reconnaissez les symptômes des principales maladies et ravageurs de vos fruitiers pour mettre en place des méthodes de lutte préventive et alternative : les badigeons à l’ancienne\, les préparations à base de plantes\, la taille sanitaire et les moyens de favoriser les auxiliaires. \n\n\n\nAnimé par Patrick Lukas \n\n\n\nInscription obligatoire auprès de la COPARY \n\n\n\n\ntous les détails par ici : https://meusenature.fr/un-programme-de-stages-vergers-pour-les-habitants-de-la-copary/
URL:https://meusenature.fr/sortie/stage-verger-en-copary-soignez-au-naturel-vos-arbres-fruitiers/
LOCATION:lieu précisé aux inscrits !
CATEGORIES:Stages/Ateliers
ATTACH;FMTTYPE=image/png:https://meusenature.fr/wp-content/uploads/2023/10/bandeau-stages-Copary-v3.png
END:VEVENT
END:VCALENDAR